
BEGIN:VCALENDAR
VERSION:2.0
PRODID:-//eventon.com NONSGML v1.0//EN
CALSCALE:GREGORIAN
METHOD:PUBLISH
BEGIN:VEVENT
UID:69e5edcd68b07
DTSTAMP:20260420T091141Z
DTSTART:20260330T180000Z
DTEND:20260330T203000Z
LOCATION:AFSCO
SUMMARY:Spectacle d'improvisation - Match Lundhila
DESCRIPTION:\nhttps://les-impropulseurs.fr/events/spectacle-dimprovisation-
 match-lundhila/
URL:https://les-impropulseurs.fr/events/spectacle-dimprovisation-match-lundhila/
END:VEVENT
END:VCALENDAR