
BEGIN:VCALENDAR
VERSION:2.0
PRODID:-//eventon.com NONSGML v1.0//EN
CALSCALE:GREGORIAN
METHOD:PUBLISH
BEGIN:VEVENT
UID:69e96de443a24
DTSTAMP:20260423T005500Z
DTSTART:20250313T190000Z
DTEND:20250313T220000Z
LOCATION:La loge du temps
SUMMARY:Spectacle d'improvisation Cabaret
DESCRIPTION:La soirée pour rire grâce aux talents de la troupe des Improp
 ulseurs ! Chaque mois\,  La Loge du Temps accueille la troupe des Impropuls
 eurs pour une soirée sous le signe de convivialité et rigolade. Découvre
 z\,  dans une ambiance décalée et délurée\,  leurs plus belles créatio
 ns et improvisations !\nhttps://les-impropulseurs.fr/events/spectacle-dimpr
 ovisation-cabaret-17/
URL:https://les-impropulseurs.fr/events/spectacle-dimprovisation-cabaret-17/
END:VEVENT
END:VCALENDAR